BEGIN:VCALENDAR
VERSION:2.0
PRODID:-//Tukios.com/
BEGIN:VEVENT
UID:28593b0f-2510-43e8-a299-b099c8eb3907@www.mcmillanmortuary.com
DTSTAMP:20260420T232955Z
DTSTART:20260424T153000Z
DTEND:20260424T164500Z
SUMMARY:Viewing
DESCRIPTION:
URL:https://www.mcmillanmortuary.com/obituaries/sandra-bott
LOCATION: 1068 Chandler Dr  St. George UT 84770
GEO:37.0663275;-113.6062713
END:VEVENT
END:VCALENDAR