BEGIN:VCALENDAR
VERSION:2.0
PRODID:-//Tukios.com/
BEGIN:VEVENT
UID:554bca6d-f7dd-4e1f-954d-f24e47f31e06@www.mcmillanmortuary.com
DTSTAMP:20260420T232815Z
DTSTART:20260424T170000Z
DTEND:20260424T180000Z
SUMMARY:Funeral Service
DESCRIPTION:
URL:https://www.mcmillanmortuary.com/obituaries/sandra-bott
LOCATION: 1068 Chandler Dr  St. George UT 84770
GEO:37.0663275;-113.6062713
END:VEVENT
END:VCALENDAR