BEGIN:VCALENDAR
VERSION:2.0
PRODID:-//Tukios.com/
BEGIN:VEVENT
UID:5c02e71b-0b0e-47ce-b445-8948466c8ca1@www.mcmillanmortuary.com
DTSTAMP:20260420T233520Z
DTSTART:20260424
SUMMARY:Interment
DESCRIPTION:
URL:https://www.mcmillanmortuary.com/obituaries/sandra-bott
LOCATION: 1777 S Dixie Dr  St. George UT 84770
GEO:37.0797755;-113.6014936
END:VEVENT
END:VCALENDAR