BEGIN:VCALENDAR
VERSION:2.0
PRODID:-//Tukios.com/
BEGIN:VEVENT
UID:37e2e3d1-cf16-49f6-9e3e-4323d7263604@www.mcmillanmortuary.com
DTSTAMP:20260421T033739Z
DTSTART:20260426T230000Z
DTEND:20260427T010000Z
SUMMARY:Viewing
DESCRIPTION:
URL:https://www.mcmillanmortuary.com/obituaries/stanley-fisher
LOCATION: 750 E Fort Pierce Dr  St. George UT 84790
GEO:37.072958;-113.5680217
END:VEVENT
END:VCALENDAR