BEGIN:VCALENDAR
VERSION:2.0
PRODID:-//Tukios.com/
BEGIN:VEVENT
UID:028ea50b-5023-4eab-8776-e15112403ee7@www.mcmillanmortuary.com
DTSTAMP:20260421T034123Z
DTSTART:20260427T153000Z
DTEND:20260427T163000Z
SUMMARY:Viewing
DESCRIPTION:
URL:https://www.mcmillanmortuary.com/obituaries/stanley-fisher
LOCATION: 750 E Fort Pierce Dr  St. George UT 84790
GEO:37.072958;-113.5680217
END:VEVENT
END:VCALENDAR