BEGIN:VCALENDAR
VERSION:2.0
PRODID:-//Tukios.com/
BEGIN:VEVENT
UID:aebd34a4-267d-4979-acfc-ef3049e0b157@www.mcmillanmortuary.com
DTSTAMP:20260421T033739Z
DTSTART:20260427T170000Z
DTEND:20260427T180000Z
SUMMARY:Funeral Service
DESCRIPTION:
URL:https://www.mcmillanmortuary.com/obituaries/stanley-fisher
LOCATION: 750 E Fort Pierce Dr  St. George UT 84790
GEO:37.072958;-113.5680217
END:VEVENT
END:VCALENDAR