BEGIN:VCALENDAR
VERSION:2.0
PRODID:-//Tukios.com/
BEGIN:VEVENT
UID:8de4fe9a-aff4-4129-ab62-e33ccc4a24fe@www.mcmillanmortuary.com
DTSTAMP:20260421T033909Z
DTSTART:20260427
SUMMARY:Interment
DESCRIPTION:
URL:https://www.mcmillanmortuary.com/obituaries/stanley-fisher
LOCATION: 1777 S Dixie Dr  St. George UT 84770
GEO:37.0797755;-113.6014936
END:VEVENT
END:VCALENDAR